BEGIN:VCALENDAR
VERSION:2.0
PRODID:-//ChamberMaster//Event Calendar 2.0//EN
METHOD:PUBLISH
X-PUBLISHED-TTL:P3D
REFRESH-INTERVAL:P3D
CALSCALE:GREGORIAN
BEGIN:VEVENT
DTSTART;VALUE=DATE:20170612
DTEND;VALUE=DATE:20170613
TRANSP:TRANSPARENT
X-MICROSOFT-CDO-ALLDAYEVENT:TRUE
SUMMARY:18th Annual Golf Fore Grants
DESCRIPTION:Funds raised from this golf outing and our Grant A Wish Campaign support the Elkhorn Public Schools Foundation Classroom Grants Program\, which funds grants in all of the 16 schools in the Elkhorn Public School district. Classroom "wishes" are requested for programs like robotics\, science equipment\, research tools\, anti-bullying seminars\, school plays\, new technology and more by teachers and principals from each school every year.
X-ALT-DESC;FMTTYPE=text/html:Funds raised from this golf outing and our Grant A Wish Campaign support the Elkhorn Public Schools Foundation Classroom Grants Program\, which funds grants in all of the 16 schools in the Elkhorn Public School district. Classroom &ldquo\;wishes&rdquo\; are requested for programs like robotics\, science equipment\, research tools\, anti-bullying seminars\, school plays\, new technology and more by teachers and principals from each school every year.
LOCATION:Shadow Ridge Country Club 1815 South 192nd Street
UID:e.2106.3876
SEQUENCE:3
DTSTAMP:20260420T041528Z
URL:https://business.westochamber.org/events/details/18th-annual-golf-fore-grants-3876
END:VEVENT

END:VCALENDAR
