BEGIN:VCALENDAR
VERSION:2.0
PRODID:-//ChamberMaster//Event Calendar 2.0//EN
METHOD:PUBLISH
X-PUBLISHED-TTL:P3D
REFRESH-INTERVAL:P3D
CALSCALE:GREGORIAN
BEGIN:VEVENT
DTSTART:20161221T180000Z
DTEND:20170115T180000Z
X-MICROSOFT-CDO-ALLDAYEVENT:FALSE
SUMMARY:2017 Sponsorships
DESCRIPTION:2017 Sponsorships\nMake the most of your WDCCC Membership by Marketing your business through these great events and sponsorship opportunities. Lock your sponsorship in at 2016 pricing. Most of our events sell out so sign up now!\n\n\n	Weekly Email Sponsorship: Reach over 1\,000 people weekly via our Event Announcements. Have an email banner link directly to your website.\n\n	\n		$20 a week: only 1 advertisement per week\n	\n	\n	Online Advertisement: Have your Banner Ad on our website link back to your site\n	\n		$50 per month\, discounts for multiple months 480x60 pixel jpg\, gif\, png\n	\n	\n	Member of the Month: Highlighted spot on WDCCC Website and listing on month's weekly email.\n	\n		$250 per month Only 12 available\n	\n	\n	Annual Bowling Tournament: Thursday February 18th\, 2016 Take part in this fun and competitive networking event.\n	\n		$30 per individual\n		$100 per team of 4\n		Donate a Prize\n		$300 Drink Sponsor\n		$500 Sponsor\n		$250 Sponsor\n		$50 Sponsor\n	\n	\n	Annual Awards Banquet: Tuesday\, March 14th\, 2017 Support your fellow Chamber Members as they are awarded for being a positive influence in our communities. Event includes social\, silent auction\, and presentation. THIS EVENT WILL SELL OUT!\n	\n		$750 Platinum Sponsor\n		$550 Gold Sponsor\n		$450 Table/Silver Sponsor\n		$55 Individual\n		Awards Sponsor $1000\n	\n	\n	Scholarship Luncheon Presentation: Tuesday April 25th\, 2017 Join us as we present the winners of our Scholarships to local high school seniors. Your sponsorship helps pay for the students and parents to enjoy lunch. Includes acknowledgement in presentation.\n	\n		$250 Sponsor\n		$100 Sponsor\n		$50 Sponsor\n	\n	\n	Elkhorn Days Pancake Feed Sponsor: June 3rd\n	\n		$50\n	\n	\n	Annual Scholarship Golf Tournament: June 2017 This event supports our Scholarship program that awards high school seniors in our community with scholarship to local colleges. THIS EVENT WILL SELL OUT!\n	\n		$1000 HOLE IN ONE SPONSOR  free advertisement on website\, logo at dinner\n		$500 DOUBLE EAGLE SPONSOR logo at dinner\n		$250 EAGLE SPONSOR\n		$150 BIRDIE SPONSOR\n		$100 HOLE SPONSOR SIGN\n		$50 PAR SPONSOR\n		$150 BEVERAGE CART SPONSOR (only 4 available)\n		$300 OCCUPY TEE Box for $300 (only 4 available)\n		DINNER Sponsor for $350 (logo at dinner)\n		Donate a Prize\n	\n	\n	Sand Volleyball Tournament:\n	\n		$200 Team of 6\n		$35 Individual\n		$500 Sponsor\n		$300 Drink Sponsor\n		$250 Sponsor\n		$100 Sponsor\n		$50 Sponsor\n	\n	\n	2017 WEST "O" EXPO SHOW: September 2017\, Proudly display your business during this day of networking. THIS EVENT WILL SELL OUT!\n	Indoor Booths include One 8' Table Skirted in Black\, Two Chairs\, Black Pipe & Drape Backdrop\, Two Lunch Tickets\, Listing with Logo on website\n	\n		Standard Booth $200 for Members\n		Standard Booth $275 for Non-Members\n		Premium Booth $250 for Members\n		Premium Booth $325 for Non-Members\n		Super Premium $350 for Members\n		Super Premium $450 for Non-Members\n		Outside Booth $200 for Members\n		Outside Booth $250 for Non-Members\n	\n	\n	Sponsorships available:\n	\n		Mixer Sponsor $500 Includes: Promo Banner at the After Hours Mixer. 8' Table to display your products/services on the veranda. Logo printed on over 300 Give Away Bags. Opportunity to provide items for insert in Give Away Bags. Logo listed on website. (Limit 5)\n		Give Away Bag Sponsor: Logo on Bag $250 Includes: Logo printed on over 300 Give Away Bags. Opportunity to provide items for insert in Give Away Bags. Logo on Website. (Limit 6)\n		Coffee/Pastries Sponsor: $200 Includes: Logo displayed on sponsorship sign and on website. (Limit 2)\n		Lunch Sponsor: $500 Includes: Logo printed on all lunch tickets provided to each exhibitor. Logo displayed on sponsorship sign at grilling locations and on website. (Limit 1)\n		Beverage Bar Sponsor: $100 Includes: Logo displayed on sponsorship sign at beverage bar and on website. (Limit 2)\n		Give Away Inserts: $25 Includes: Provide 300 promotional items to be pre-inserted in the Give Away Bags given to expo attendees. (Limit 30)\n		Donate a Prize: Prize will be drawn at Mixer\n	\n	\n	Bubbleball Tournament:\n	\n		$500 Sponsor\n		$300 Drink Sponsor\n		$250 Sponsor\n		$100 Sponsor\n		$50 Sponsor\n	\n	\n	Annual Holiday Party\n	\n		Holiday Party Sponsor: $500\n		Holiday Party Sponsor: $250\n		Holiday Party Sponsor:  $100\n		Holiday Party Sponsor:  $50\n		Holiday Party Hor d'oeuvres Sponsor: Free\n\n		    Bring your own hor d'oeuvres and showcase what your company.\n		Holiday Party Drink Sponsor: $500\n		Holiday Party Drink Sponsor: $300\n		Holiday Party Door Prize Sponsor: FREE Provide a gift to give away throughout the evening.\n	\n	\n	Food Basket\n	\n		$250 Food Basket Sponsor\n		$100 Food Basket Sponsor\n		$50 Food Basket Sponsor\n		$40 Food Basket Sponsor\n		$25 Food Basket Sponsor\n		$20 Food Basket Sponsor
X-ALT-DESC;FMTTYPE=text/html:<div style="text-align: center\;"><span style="font-size:18px\;"><strong>2017 Sponsorships</strong></span></div>\n<strong>Make the most of your WDCCC Membership by Marketing your business through these great events and sponsorship opportunities. Lock your sponsorship in at 2016 pricing. Most of our events sell out so sign up now!</strong>\n\n<ul>\n	<li><strong>Weekly Email Sponsorship:</strong> Reach over 1\,000 people weekly via our Event Announcements. Have an email banner link directly to your website.\n\n	<ul>\n		<li><strong>$20 a week</strong>: only 1 advertisement per week</li>\n	</ul>\n	</li>\n	<li><strong>Online Advertisement: </strong>Have your Banner Ad on our website link back to your site\n	<ul>\n		<li><strong>$50 per month</strong>\, discounts for multiple months <strong>480x60 pixel jpg\, gif\, png</strong></li>\n	</ul>\n	</li>\n	<li><strong>Member of the Month: </strong>Highlighted spot on WDCCC Website and listing on month&#39\;s weekly email.\n	<ul>\n		<li><strong>$250 per month</strong> Only 12 available</li>\n	</ul>\n	</li>\n	<li><strong>Annual Bowling Tournament:</strong> Thursday February 18th\, 2016 Take part in this fun and competitive networking event.\n	<ul>\n		<li><strong>$30 per individual</strong></li>\n		<li><strong>$100 per team of 4</strong></li>\n		<li><strong>Donate a Prize</strong></li>\n		<li><strong>$300 Drink Sponsor</strong></li>\n		<li><strong>$500 Sponsor</strong></li>\n		<li><strong>$250 Sponsor</strong></li>\n		<li><strong>$50 Sponsor</strong></li>\n	</ul>\n	</li>\n	<li><strong>Annual Awards Banquet</strong>: Tuesday\, March 14th\, 2017 Support your fellow Chamber Members as they are awarded for being a positive influence in our communities. Event includes social\, silent auction\, and presentation. THIS EVENT WILL SELL OUT!\n	<ul>\n		<li><strong>$750 Platinum Sponsor</strong></li>\n		<li><strong>$550 Gold Sponsor</strong></li>\n		<li><strong>$450 Table/Silver Sponsor</strong></li>\n		<li><strong>$55 Individual</strong></li>\n		<li><strong>Awards Sponsor $1000</strong></li>\n	</ul>\n	</li>\n	<li><strong>Scholarship Luncheon Presentation</strong>: Tuesday April 25th\, 2017 Join us as we present the winners of our Scholarships to local high school seniors. Your sponsorship helps pay for the students and parents to enjoy lunch. Includes acknowledgement in presentation.\n	<ul>\n		<li><strong>$250 Sponsor</strong></li>\n		<li><strong>$100 Sponsor</strong></li>\n		<li><strong>$50 Sponsor</strong></li>\n	</ul>\n	</li>\n	<li><strong>Elkhorn Days Pancake Feed Sponsor: </strong>June 3rd\n	<ul>\n		<li><strong>$50</strong></li>\n	</ul>\n	</li>\n	<li><strong>Annual Scholarship Golf Tournament:</strong> June 2017 This event supports our Scholarship program that awards high school seniors in our community with scholarship to local colleges. <strong>THIS EVENT WILL SELL OUT!</strong>\n	<ul>\n		<li><span style="font-size:14px\;"><strong>$1000 HOLE IN ONE SPONSOR</strong><strong>&nbsp\; </strong>free advertisement on website\, logo at dinner</span></li>\n		<li><span style="font-size:14px\;"><strong>$500 DOUBLE EAGLE SPONSOR</strong> logo at dinner</span></li>\n		<li><span style="font-size:14px\;"><strong>$250 EAGLE SPONSOR</strong></span></li>\n		<li><span style="font-size:14px\;"><strong>$150 BIRDIE SPONSOR</strong></span></li>\n		<li><strong><span style="font-size:14px\;">$100 HOLE SPONSOR</span> SIGN</strong></li>\n		<li><strong><span style="font-size:14px\;">$50 PAR SPONSOR</span></strong></li>\n		<li><strong><span style="font-size:14px\;">$150 BEVERAGE CART SPONSOR (only 4 available)</span></strong></li>\n		<li><strong><span style="font-size:14px\;">$300 OCCUPY TEE Box for $300 (only 4 available)</span></strong></li>\n		<li><strong><span style="font-size:14px\;">DINNER Sponsor for $350 (logo at dinner)</span></strong></li>\n		<li><strong><span style="font-size:14px\;">Donate a Prize</span></strong></li>\n	</ul>\n	</li>\n	<li><strong>Sand Volleyball Tournament:</strong>\n	<ul>\n		<li><strong>$200 Team of 6</strong></li>\n		<li><strong>$35 Individual</strong></li>\n		<li><strong>$500 Sponsor</strong></li>\n		<li><strong>$300 Drink Sponsor</strong></li>\n		<li><strong>$250 Sponsor</strong></li>\n		<li><strong>$100 Sponsor</strong></li>\n		<li><strong>$50 Sponsor</strong></li>\n	</ul>\n	</li>\n	<li><strong>2017 WEST &quot\;O&quot\; EXPO SHOW:</strong> September 2017\, Proudly display your business during this day of networking. <strong>THIS EVENT WILL SELL OUT!</strong></li>\n	<li>Indoor Booths include One 8&#39\; Table Skirted in Black\, Two Chairs\, Black Pipe &amp\; Drape Backdrop\, Two Lunch Tickets\, Listing with Logo on website\n	<ul>\n		<li><strong>Standard Booth $200 </strong>for Members</li>\n		<li><strong>Standard Booth $275 </strong>for Non-Members</li>\n		<li><strong>Premium Booth</strong> <strong>$250</strong> for Members</li>\n		<li><strong>Premium Booth</strong> <strong>$325</strong> for Non-Members</li>\n		<li><strong>Super Premium $350 </strong>for Members</li>\n		<li><strong>Super Premium $450 </strong>for Non-Members</li>\n		<li><strong>Outside Booth $200</strong> for Members</li>\n		<li><strong>Outside Booth</strong> <strong>$250</strong> for Non-Members</li>\n	</ul>\n	</li>\n	<li><strong><u>Sponsorships available:</u></strong>\n	<ul>\n		<li><strong>Mixer Sponsor $500</strong> Includes: Promo Banner at the After Hours Mixer. 8&#39\; Table to display your products/services on the veranda. Logo printed on over 300 Give Away Bags. Opportunity to provide items for insert in Give Away Bags. Logo listed on website. (Limit 5)</li>\n		<li><strong>Give Away Bag Sponsor: Logo on Bag $250</strong> Includes: Logo printed on over 300 Give Away Bags. Opportunity to provide items for insert in Give Away Bags. Logo on Website. (Limit 6)</li>\n		<li><strong>Coffee/Pastries Sponsor: $200</strong> Includes: Logo displayed on sponsorship sign and on website. (Limit 2)</li>\n		<li><strong>Lunch Sponsor: </strong><strong>$50</strong>0 Includes: Logo printed on all lunch tickets provided to each exhibitor. Logo displayed on sponsorship sign at grilling locations and on website. (Limit 1)</li>\n		<li><strong>Beverage Bar Sponsor: $100</strong> Includes: Logo displayed on sponsorship sign at beverage bar and on website. (Limit 2)</li>\n		<li><strong>Give Away Inserts: $25</strong> Includes: Provide 300 promotional items to be pre-inserted in the Give Away Bags given to expo attendees. (Limit 30)</li>\n		<li><strong>Donate a Prize</strong>: Prize will be drawn at Mixer</li>\n	</ul>\n	</li>\n	<li><strong>Bubbleball Tournament:</strong>\n	<ul>\n		<li><strong>$500 Sponsor</strong></li>\n		<li><strong>$300 Drink Sponsor</strong></li>\n		<li><strong>$250 Sponsor</strong></li>\n		<li><strong>$100 Sponsor</strong></li>\n		<li><strong>$50 Sponsor</strong></li>\n	</ul>\n	</li>\n	<li><strong><span style="font-size:14px\;">Annual Holiday Party</span></strong>\n	<ul>\n		<li><span style="font-size:14px\;">Holiday Party Sponsor: $500</span></li>\n		<li><span style="font-size:14px\;">Holiday Party Sponsor: $250</span></li>\n		<li><span style="font-size:14px\;">Holiday Party Sponsor:&nbsp\; $100</span></li>\n		<li><span style="font-size:14px\;">Holiday Party Sponsor:&nbsp\; $50</span></li>\n		<li><span style="font-size:14px\;">Holiday Party Hor d&#39\;oeuvres Sponsor: Free<br />\n		&nbsp\;&nbsp\;&nbsp\;&nbsp\;Bring your own hor d&#39\;oeuvres and showcase what your company.</span></li>\n		<li><span style="font-size:14px\;">Holiday Party Drink Sponsor: $500</span></li>\n		<li><span style="font-size:14px\;">Holiday Party Drink Sponsor: $300</span></li>\n		<li><span style="font-size:14px\;">Holiday Party Door Prize Sponsor: FREE Provide a gift to give away throughout the evening.</span></li>\n	</ul>\n	</li>\n	<li><span style="font-size:14px\;"><strong>Food Basket</strong></span>\n	<ul>\n		<li>$250 Food Basket Sponsor</li>\n		<li>$100 Food Basket Sponsor</li>\n		<li>$50 Food Basket Sponsor</li>\n		<li>$40 Food Basket Sponsor</li>\n		<li>$25 Food Basket Sponsor</li>\n		<li>$20 Food Basket Sponsor</li>\n	</ul>\n	</li>\n</ul>\n
LOCATION:
UID:e.2106.2277
SEQUENCE:3
DTSTAMP:20260422T171942Z
URL:https://business.westochamber.org/events/details/2017-sponsorships-12-30-2016-2277
END:VEVENT

END:VCALENDAR
