BEGIN:VCALENDAR
VERSION:2.0
PRODID:-//ChamberMaster//Event Calendar 2.0//EN
METHOD:PUBLISH
X-PUBLISHED-TTL:P3D
REFRESH-INTERVAL:P3D
CALSCALE:GREGORIAN
BEGIN:VEVENT
DTSTART:20170609T170000Z
DTEND:20170609T230000Z
X-MICROSOFT-CDO-ALLDAYEVENT:FALSE
SUMMARY:2017 WDCCC Scholarship Golf Outing
DESCRIPTION:SCHOLARSHIP GOLF TOURNAMENT\n\n\n\nLOCATION: The Pines Country Club\n\n(Just NW of Valley\, On HWY 275)\n\nDATE: Friday\, June 9th\, 2017\n\nTIME: 1:00 pm Shotgun Start\n\nFORMAT: Four-Man Scramble\n\nCOST: $120 Per Golfer (Includes Golf\, Cart\, Dinner\, & Prizes)\n\nMISSION: Funds raised are for the WDCCC College Scholarships for area High School Seniors.\n\n\n\nSchools that have received WDCCC Scholarships are Elkhorn South High School\, Elkhorn High School\, Bennington High School\, DC West High School\, and Mount Michael Benedictine High School\n\n\n\nSPONSORSHIPS AVAILABLE \n\nSponsorship Deadline is May 31\n\nAll Sponsors get your Logo listed on Website Event Page in addition to:\n\n\n\n\n\n  ___$2\,500 TOURNAMENT SPONSOR \n\n	1  of 4\, Advertisement on WDCCC Website\, Logo at Scholarship Luncheon\, Logo at Golf Dinner\, Social Media Package\, Signage at Check-In and Hole Sponsor Sign\n\n\n___$1\,000 SPONSOR\n\n\n	Advertisement on WDCCC Website\, Logo at Scholarship Luncheon\, Logo at Golf Dinner\, Social Media Package\, Signage at Check-In and Hole Sign\n\n___$500 DOUBLE EAGLE SPONSOR & $500 DINNER SPONSOR\n\n\n	Advertisement on WDCCC Website\, Logo at Scholarship Luncheon\, Logo at Golf Dinner\, Social Media Package\n\n___$300 OCCUPY A TEE BOX  (only 1 left!)\n\n\n	Occupy a Tee Box\, bring your table and materials for promotion\n\n___$250 EAGLE SPONSOR\n\n\n	Logo at Golf Dinner and Social Media Package\n\n___$175/Side BEVERAGE CART SPONSOR\n\n        (only 3 left!)\n\n___$100 HOLE SIGN SPONSOR\n\n___Donate a Prize\n\n       (Great advertising) _______________
X-ALT-DESC;FMTTYPE=text/html:<span style="font-size:26px\;"><strong><span style="font-family: tahoma\,sans-serif\;">SCHOLARSHIP GOLF TOURNAMENT</span></strong></span><br />\n<br />\n<span style="font-size:20px\;"><strong><em>LOCATION:</em></strong><strong> The Pines Country Club</strong></span><br />\n<span style="font-size:16px\;">(Just NW of Valley\, On HWY 275)</span><br />\n<span style="font-size:20px\;"><strong><em>DATE:</em></strong><strong> Friday\, June 9<sup>th</sup>\, 2017</strong><br />\n<strong><em>TIME:</em></strong><strong> 1:00 pm Shotgun Start</strong><br />\n<strong><em>FORMAT:</em></strong><strong> Four-Man Scramble</strong><br />\n<strong><em>COST:</em></strong><strong> $120 Per Golfer</strong></span> <span style="font-size:16px\;">(Includes Golf\, Cart\, Dinner\, &amp\; Prizes)</span><br />\n<span style="font-size:20px\;"><strong><em>MISSION: </em></strong><strong>Funds raised are for the WDCCC College Scholarships for area High School Seniors.</strong><br />\n<br />\n<span style="font-size:14px\;">Schools that have received WDCCC Scholarships are Elkhorn South High School\, Elkhorn High School\, Bennington High School\, DC West High School\, and Mount Michael Benedictine High School</span></span><br />\n<br />\n<span style="font-size:14px\;"><strong><span style="font-size:20px\;"><em>SPONSORSHIPS AVAILABLE</em></span> </strong><br />\n<strong><u><span style="font-size:16px\;">Sponsorship Deadline is May 31</span></u><br />\nAll Sponsors get your Logo listed on Website Event Page in addition to:</strong></span><br />\n<br />\n<br />\n&nbsp\; <strong><span style="font-size:18.0pt\;">___</span></strong><strong><span style="font-size:14.0pt\;">$2\,500 TOURNAMENT SPONSOR </span></strong>\n<ul>\n	<li style="margin-top:0in\;margin-right:-58.5pt\;margin-bottom:0in\;margin-bottom:.0001pt\;"><strong><span style="font-size:8.0pt\;">1 &nbsp\;of 4\, Advertisement on WDCCC Website\, Logo at Scholarship Luncheon\, Logo at Golf Dinner\, Social Media Package\, Signage at Check-In and Hole Sponsor Sign</span></strong></li>\n</ul>\n\n<div style="margin-top:0in\;margin-right:-58.5pt\;margin-bottom:0in\;margin-bottom:.0001pt\;"><strong><span style="font-size: 18pt\;">___</span></strong><strong><span style="font-size:14.0pt\;">$1\,000 SPONSOR</span></strong></div>\n\n<ul>\n	<li style="margin-top:0in\;margin-right:-58.5pt\;margin-bottom:0in\;margin-bottom:.0001pt\;"><strong><span style="font-size:8.0pt\;">Advertisement on WDCCC Website\, Logo at Scholarship Luncheon\, Logo at Golf Dinner\, Social Media Package\, Signage at Check-In and Hole Sign</span></strong></li>\n</ul>\n<strong><span style="font-size:18.0pt\;">___</span></strong><strong><span style="font-size:14.0pt\;">$500 DOUBLE EAGLE SPONSOR &amp\; $500 DINNER SPONSOR</span></strong>\n\n<ul>\n	<li style="margin-top:0in\;margin-right:-58.5pt\;margin-bottom:0in\;margin-bottom:.0001pt\;"><strong><span style="font-size:8.0pt\;">Advertisement on WDCCC Website\, Logo at Scholarship Luncheon\, Logo at Golf Dinner\, Social Media Package</span></strong></li>\n</ul>\n<strong><span style="font-size:18.0pt\;">___</span></strong><strong><span style="font-size:14.0pt\;">$300 OCCUPY A TEE BOX</span></strong><span style="font-size:14.0pt\;"><span style="font-size:14px\;">&nbsp\; (only 1 left!)</span></span>\n\n<ul>\n	<li style="margin-top:0in\;margin-right:-58.5pt\;margin-bottom:0in\;margin-bottom:.0001pt\;"><strong><span style="font-size:8.0pt\;">Occupy a Tee Box\, bring your table and materials for <span style="font-size:11px\;">promotion</span></span></strong></li>\n</ul>\n<strong><span style="font-size:18.0pt\;">___</span></strong><strong><span style="font-size:14.0pt\;">$250 EAGLE SPONSOR</span></strong>\n\n<ul>\n	<li style="margin-top:0in\;margin-right:-58.5pt\;margin-bottom:0in\;margin-bottom:.0001pt\;"><strong><span style="font-size:8.0pt\;">Logo at Golf Dinner and Social Media Package</span></strong></li>\n</ul>\n<strong><span style="font-size:18.0pt\;">___</span></strong><strong><span style="font-size:14.0pt\;">$175/Side BEVERAGE CART SPONSOR<br />\n&nbsp\;&nbsp\; &nbsp\; &nbsp\; &nbsp\;</span></strong><span style="font-size:12px\;">(only 3 left!)</span><br />\n<strong><span style="font-size:18.0pt\;">___</span></strong><strong><span style="font-size:14.0pt\;">$100 HOLE SIGN SPONSOR</span></strong><br />\n<span style="font-size:18.0pt\;">___</span><span style="font-size:14.0pt\;">Donate a Prize<br />\n&nbsp\;&nbsp\; &nbsp\; &nbsp\; <span style="font-size:11px\;">(Great advertising)</span>&nbsp\;_______________</span><br />\n&nbsp\;
LOCATION:The Pines County Club (Just NW of Valley\, on HWY 275)
UID:e.2106.3472
SEQUENCE:3
DTSTAMP:20260420T040951Z
URL:https://business.westochamber.org/events/details/2017-wdccc-scholarship-golf-outing-3472
END:VEVENT

END:VCALENDAR
