BEGIN:VCALENDAR
VERSION:2.0
PRODID:-//ChamberMaster//Event Calendar 2.0//EN
METHOD:PUBLISH
X-PUBLISHED-TTL:P3D
REFRESH-INTERVAL:P3D
CALSCALE:GREGORIAN
BEGIN:VEVENT
DTSTART:20170119T220000Z
DTEND:20170120T000000Z
X-MICROSOFT-CDO-ALLDAYEVENT:FALSE
SUMMARY:After Hours
DESCRIPTION:On line registration is closed. You may now register at the event.\n\n\n\nJanuary After Hours\n\nThursday\, January 19th\, 4-6pm\n\n\n\nIntertech Collision Center\n\n15555 Q St (just off 156th & Q St)\n\nOmaha\, NE\n\n\n\nFREE to WDCCC Members\n\n$5 for Guests\n\n(Guests if it is your 1st time attending a WDCCC event email wdccc@wdccc.org for a complimentary pass)\n\n\n\nDon't forget your Business Cards!\n\n \nLook forward to seeing you tonight at WDCCC After Hours at Intertech Collision Center off of 156th and Q st. from 4-6pm.\n\n\n\nIf the Intertech parking lot is full please feel free to park in the Walgreens parking lot in the south end away from their doors or in the neighborhood behind the shop and follow the sidewalk down.  Be careful of ice and slick spots.  Hope to see you all in a few hours.\n\n\n\nThanks\,\n\nWDCCC and Intertech
X-ALT-DESC;FMTTYPE=text/html:<strong>On line registration is closed. You may now register at the event.<br />\n<br />\nJanuary After Hours</strong><br />\nThursday\, January 19th\, 4-6pm<br />\n<br />\n<strong>Intertech Collision Center</strong><br />\n15555 Q St (just off 156th &amp\; Q St)<br />\nOmaha\, NE<br style="color: rgb(51\, 51\, 51)\; font-family: sans-serif\, Arial\, Verdana\, 'Trebuchet MS'\; font-size: 13px\; line-height: 20.8px\;" />\n<br style="color: rgb(51\, 51\, 51)\; font-family: sans-serif\, Arial\, Verdana\, 'Trebuchet MS'\; font-size: 13px\; line-height: 20.8px\;" />\n<span style="font-size: 14px\;">FREE to&nbsp\;WDCCC&nbsp\;Members<br />\n$5 for Guests<br />\n<span style="font-size: 12px\;">(Guests if it is your 1st time attending a&nbsp\;WDCCC&nbsp\;event email&nbsp\;wdccc@wdccc.org for a complimentary pass)</span></span><br style="line-height: 20.8px\;" />\n<br style="line-height: 20.8px\;" />\n<span style="line-height: 20.8px\;">Don&#39\;t forget your Business Cards!</span><br />\n&nbsp\;\n<p>Look forward to seeing you tonight at WDCCC After Hours at Intertech Collision Center off of 156th and Q st. from 4-6pm.<br />\n<br />\nIf the Intertech parking lot is full please feel free to park in the Walgreens parking lot in the south end away from their doors or in the neighborhood behind the shop and follow the sidewalk down.&nbsp\; Be careful of ice and slick spots.&nbsp\; Hope to see you all in a few hours.<br />\n<br />\nThanks\,<br />\nWDCCC and Intertech</p>\n
LOCATION:Intertech Collision Center 15555 Q St (just off 156th & Q St) Omaha\, NE
UID:e.2106.551
SEQUENCE:3
DTSTAMP:20260422T163752Z
URL:https://business.westochamber.org/events/details/after-hours-01-19-2017-551
END:VEVENT

END:VCALENDAR
