BEGIN:VCALENDAR
VERSION:2.0
PRODID:-//ChamberMaster//Event Calendar 2.0//EN
METHOD:PUBLISH
X-PUBLISHED-TTL:P3D
REFRESH-INTERVAL:P3D
CALSCALE:GREGORIAN
BEGIN:VEVENT
DTSTART:20170216T223000Z
DTEND:20170217T003000Z
X-MICROSOFT-CDO-ALLDAYEVENT:FALSE
SUMMARY:After Hours
DESCRIPTION:February After Hours\n\nThursday\, February 16th\, 4-6pm\n\n\n\nThe Mark\n\n20902 Cumberland Drive\n\nElkhorn\, NE 68022\n\n\n\nFREE to WDCCC Members\n\n$5 for Guests\n\n(Guests if it is your 1st time attending a WDCCC event email wdccc@wdccc.org for a complimentary pass)\n\n\n\nDon't forget your Business Cards!
X-ALT-DESC;FMTTYPE=text/html:<strong style="line-height: 20.8px\;">February After Hours</strong><br style="line-height: 20.8px\;" />\n<span style="line-height: 20.8px\;">Thursday\, February 16th\, 4-6pm</span><br style="line-height: 20.8px\;" />\n<br style="line-height: 20.8px\;" />\n<strong>The Mark</strong><br style="line-height: 20.8px\;" />\n20902 Cumberland Drive<br style="line-height: 20.8px\;" />\n<span style="line-height: 20.8px\;">Elkhorn\, NE 68022</span><br style="line-height: 20.8px\;" />\n<br style="line-height: 20.8px\;" />\n<span style="font-size: 14px\;">FREE to&nbsp\;WDCCC&nbsp\;Members<br />\n$5 for Guests<br />\n<span style="font-size: 12px\;">(Guests if it is your 1st time attending a&nbsp\;WDCCC&nbsp\;event email&nbsp\;wdccc@wdccc.org for a complimentary pass)</span></span><br style="line-height: 20.8px\;" />\n<br style="line-height: 20.8px\;" />\n<span style="line-height: 20.8px\;">Don&#39\;t forget your Business Cards!</span>
LOCATION:The Mark 20902 Cumberland Drive Elkhorn\, NE 68022
UID:e.2106.552
SEQUENCE:3
DTSTAMP:20260422T130933Z
URL:https://business.westochamber.org/events/details/after-hours-02-16-2017-552
END:VEVENT

END:VCALENDAR
