BEGIN:VCALENDAR
VERSION:2.0
PRODID:-//ChamberMaster//Event Calendar 2.0//EN
METHOD:PUBLISH
X-PUBLISHED-TTL:P3D
REFRESH-INTERVAL:P3D
CALSCALE:GREGORIAN
BEGIN:VEVENT
DTSTART:20170628T210000Z
DTEND:20170628T230000Z
X-MICROSOFT-CDO-ALLDAYEVENT:FALSE
SUMMARY:After Hours
DESCRIPTION:June After Hours is\n\n Party On The Patio\n\nThis Month only the date is:\n\nWEDNESDAY\, June 28th\, 4-6pm\n\n\n\nElk Ridge Village Retirement Community\n\n19400 Elk Ridge Drive\n\nElkhorn\, NE\n\n\n\nFREE to WDCCC Members\n\n$5 for Guests\n\n(Guests if it is your 1st time attending a WDCCC event email wdccc@wdccc.org for a complimentary pass)\n\n\n\nDon't forget your Business Cards!
X-ALT-DESC;FMTTYPE=text/html:<strong style="line-height: 20.8px\;">June After Hours is</strong><br />\n<strong style="font-size: 16px\;"><span style="line-height: 20.8px\;">&#8203\;<span style="font-size: 18px\;"><span style="color: rgb(128\, 0\, 0)\;">Party On The Patio</span></span></span></strong><br />\n<strong style="line-height: 20.8px\;">This Month only the date is:</strong><br style="line-height: 20.8px\;" />\n<span style="font-size:16px\;"><strong><span style="line-height: 20.8px\;"><span style="color:#800000\;">WEDNESDAY\, June 28th</span>\, 4-6pm</span></strong></span><br />\n<br />\n<strong>Elk Ridge Village Retirement Community</strong><br style="line-height: 20.8px\;" />\n<span style="color: rgb(51\, 51\, 51)\; font-family: sans-serif\, Arial\, Verdana\, &quot\;Trebuchet MS&quot\;\; font-size: 13px\; background-color: rgb(255\, 255\, 255)\;">19400 Elk Ridge Drive</span><br style="color: rgb(51\, 51\, 51)\; font-family: sans-serif\, Arial\, Verdana\, &quot\;Trebuchet MS&quot\;\; font-size: 13px\;" />\n<span style="color: rgb(51\, 51\, 51)\; font-family: sans-serif\, Arial\, Verdana\, &quot\;Trebuchet MS&quot\;\; font-size: 13px\; background-color: rgb(255\, 255\, 255)\;">Elkhorn\, NE</span><br style="line-height: 20.8px\;" />\n<br />\n<span style="font-size: 14px\;">FREE to&nbsp\;WDCCC&nbsp\;Members<br />\n$5 for Guests<br />\n<span style="font-size: 12px\;">(Guests if it is your 1st time attending a&nbsp\;WDCCC&nbsp\;event email&nbsp\;wdccc@wdccc.org for a complimentary pass)</span></span><br style="line-height: 20.8px\;" />\n<br style="line-height: 20.8px\;" />\n<span style="line-height: 20.8px\;">Don&#39\;t forget your Business Cards!</span>
LOCATION:Elk Ridge Village Retirement Community 19400 Elk Ridge Drive Elkhorn\, NE 68022
UID:e.2106.556
SEQUENCE:3
DTSTAMP:20260421T025809Z
URL:https://business.westochamber.org/events/details/after-hours-06-15-2017-556
END:VEVENT

END:VCALENDAR
