BEGIN:VCALENDAR
VERSION:2.0
PRODID:-//ChamberMaster//Event Calendar 2.0//EN
METHOD:PUBLISH
X-PUBLISHED-TTL:P3D
REFRESH-INTERVAL:P3D
CALSCALE:GREGORIAN
BEGIN:VEVENT
DTSTART:20240815T210000Z
DTEND:20240815T230000Z
X-MICROSOFT-CDO-ALLDAYEVENT:FALSE
SUMMARY:After Hours and Ribbon Cutting for Invictus Mobile Auto Care and TruBalance Chiropractic and Wellness
DESCRIPTION:West O Chamber After Hours and Ribbon Cutting\n\nPresented and Hosted By True Balance Chiropractic & Wellness and\n\nInvictus Mobile Auto Care\n\n\n\nThursday\, August 15th\, 2024\n\n4 PM - 6 PM\n\n\n\nAddress:\n\n9829 S. 168th Avenue\, Suite 4F\n\nOmaha\, NE 68136
X-ALT-DESC;FMTTYPE=text/html:West O Chamber After Hours and Ribbon Cutting<br />\nPresented and Hosted By True Balance Chiropractic &amp\; Wellness and<br />\nInvictus Mobile Auto Care<br />\n<br />\nThursday\, August 15th\, 2024<br />\n4 PM - 6 PM<br />\n<br />\nAddress:<br />\n9829 S. 168th Avenue\, Suite 4F<br />\nOmaha\, NE 68136
LOCATION:TruBalance Chiropractic & Wellness 9829 S. 168th Avenue\, Suite 4F Omaha\, NE 68136
UID:e.2106.9582
SEQUENCE:3
DTSTAMP:20260422T165412Z
URL:https://business.westochamber.org/events/details/after-hours-and-ribbon-cutting-for-invictus-mobile-auto-care-and-trubalance-chiropractic-and-wellness-9582
END:VEVENT

END:VCALENDAR
