BEGIN:VCALENDAR
VERSION:2.0
PRODID:-//ChamberMaster//Event Calendar 2.0//EN
METHOD:PUBLISH
X-PUBLISHED-TTL:P3D
REFRESH-INTERVAL:P3D
CALSCALE:GREGORIAN
BEGIN:VEVENT
DTSTART:20250417T210000Z
DTEND:20250417T230000Z
X-MICROSOFT-CDO-ALLDAYEVENT:FALSE
SUMMARY:After Hours - Better Homes and Garden Real Estate
DESCRIPTION:Better Homes and Garden Real Estate After Hours\n\nApril 17th\, 2025\n\n4 PM - 6 PM
X-ALT-DESC;FMTTYPE=text/html:Better Homes and Garden Real Estate After Hours<br />\nApril 17th\, 2025<br />\n4 PM - 6 PM
LOCATION:1210 N. 205th Street\, Elkhorn\, NE 68022
UID:e.2106.9626
SEQUENCE:3
DTSTAMP:20260420T191535Z
URL:https://business.westochamber.org/events/details/after-hours-better-homes-and-garden-real-estate-9626
END:VEVENT

END:VCALENDAR
