BEGIN:VCALENDAR
VERSION:2.0
PRODID:-//ChamberMaster//Event Calendar 2.0//EN
METHOD:PUBLISH
X-PUBLISHED-TTL:P3D
REFRESH-INTERVAL:P3D
CALSCALE:GREGORIAN
BEGIN:VEVENT
DTSTART:20250522T210000Z
DTEND:20250522T230000Z
X-MICROSOFT-CDO-ALLDAYEVENT:FALSE
SUMMARY:Aloft After Hours
DESCRIPTION:Aloft After Hours\n\nThursday\, May 22nd\, 4 PM - 6 PM\n\n\n\n215 S. 181st Street\, Omaha\, NE 68022\n\n\n\nStop in and check out the new and improved Aloft Hotel off of 180th and Dodge. Drinks\, food\, networking prizes and much more! We look forward to seeing you there as we kick off Memorial Day weekend in style!
X-ALT-DESC;FMTTYPE=text/html:Aloft After Hours<br />\nThursday\, May 22nd\, 4 PM - 6 PM<br />\n<br />\n215 S. 181st Street\, Omaha\, NE 68022<br />\n<br />\nStop in and check out the new and improved Aloft Hotel off of 180th and Dodge. Drinks\, food\, networking prizes and much more! We look forward to seeing you there as we kick off Memorial Day weekend in style!
LOCATION:Aloft Hotel West Omaha 215 S. 181st Street\, Omaha\, NE 68022
UID:e.2106.9639
SEQUENCE:3
DTSTAMP:20260425T234742Z
URL:https://business.westochamber.org/events/details/aloft-after-hours-9639
END:VEVENT

END:VCALENDAR
