BEGIN:VCALENDAR
VERSION:2.0
PRODID:-//ChamberMaster//Event Calendar 2.0//EN
METHOD:PUBLISH
X-PUBLISHED-TTL:P3D
REFRESH-INTERVAL:P3D
CALSCALE:GREGORIAN
BEGIN:VEVENT
DTSTART:20170803T163000Z
DTEND:20170803T183000Z
X-MICROSOFT-CDO-ALLDAYEVENT:FALSE
SUMMARY:Ambassador Meeting
DESCRIPTION:Monthly Ambassador Meeting\n\nSam & Louies\n\n2949 N 204th St\n\nElkhorn\, NE 68022
X-ALT-DESC;FMTTYPE=text/html:<strong>Monthly Ambassador Meeting</strong><br />\nSam &amp\; Louies<br />\n2949 N 204th St<br />\nElkhorn\, NE 68022
LOCATION:Sam & Louies 2949 N 204th St Elkhorn\, NE 68022
UID:e.2106.982
SEQUENCE:3
DTSTAMP:20260420T013351Z
URL:https://business.westochamber.org/events/details/ambassador-meeting-08-03-2017-982
END:VEVENT

END:VCALENDAR
