BEGIN:VCALENDAR
VERSION:2.0
PRODID:-//ChamberMaster//Event Calendar 2.0//EN
METHOD:PUBLISH
X-PUBLISHED-TTL:P3D
REFRESH-INTERVAL:P3D
CALSCALE:GREGORIAN
BEGIN:VEVENT
DTSTART:20171005T163000Z
DTEND:20171005T183000Z
X-MICROSOFT-CDO-ALLDAYEVENT:FALSE
SUMMARY:Ambassador Meeting
DESCRIPTION:Monthly Ambassador Meeting\n\nSam & Louie's\n\n2949 N 204th St\n\nElkhorn\, NE 68022
X-ALT-DESC;FMTTYPE=text/html:<strong>Monthly Ambassador Meeting</strong><br />\nSam &amp\; Louie&#39\;s<br />\n2949 N 204th St<br />\nElkhorn\, NE 68022
LOCATION:Sam & Louie's 2949 N 204th St Elkhorn\, NE 68022
UID:e.2106.984
SEQUENCE:3
DTSTAMP:20260420T020829Z
URL:https://business.westochamber.org/events/details/ambassador-meeting-10-05-2017-984
END:VEVENT

END:VCALENDAR
