BEGIN:VCALENDAR
VERSION:2.0
PRODID:-//ChamberMaster//Event Calendar 2.0//EN
METHOD:PUBLISH
X-PUBLISHED-TTL:P3D
REFRESH-INTERVAL:P3D
CALSCALE:GREGORIAN
BEGIN:VEVENT
DTSTART:20170617T130000Z
DTEND:20170617T170000Z
X-MICROSOFT-CDO-ALLDAYEVENT:FALSE
SUMMARY:BRIN Running Series: Cornfield Cornfield
DESCRIPTION:Presented by the BRIN Running Series\, Cornfield Cornfield is the Hometown 10k you don't want to miss. Sign up and come on out for watermelon\, sweet corn\, cold beer and a costume contest to take place after the run. Hope to see you out here at Werner Park representing your hometown pride!
X-ALT-DESC;FMTTYPE=text/html:Presented by the BRIN Running Series\, Cornfield Cornfield is the Hometown 10k you don&#39\;t want to miss. Sign up and come on out for watermelon\, sweet corn\, cold beer and a costume contest to take place after the run. Hope to see you out here at Werner Park representing your hometown pride!
LOCATION:Werner Park
UID:e.2106.3394
SEQUENCE:3
DTSTAMP:20260419T235612Z
URL:https://business.westochamber.org/events/details/brin-running-series-cornfield-cornfield-3394
END:VEVENT

END:VCALENDAR
