BEGIN:VCALENDAR
VERSION:2.0
PRODID:-//ChamberMaster//Event Calendar 2.0//EN
METHOD:PUBLISH
X-PUBLISHED-TTL:P3D
REFRESH-INTERVAL:P3D
CALSCALE:GREGORIAN
BEGIN:VEVENT
DTSTART:20170208T133000Z
DTEND:20170208T150000Z
X-MICROSOFT-CDO-ALLDAYEVENT:FALSE
SUMMARY:Coffee & Connections
DESCRIPTION:Online registration is now closed.  We look forward to seeing you at the event.  You can still register at the door.\n\n\n\nFebruary Coffee & Connections\n\nWednesday\, February 8th\, 7:30-9am\n\n\n\nBelAir Fashions\n\n717 N 114th St.\n\nOmaha\, NE  68154\n\n\n\nFREE to WDCCC Members\n\n$5 for Guests\n\n(Guests if it is your 1st time attending a WDCCC event email wdccc@wdccc.org for a complimentary pass)\n\n\n\nDon't forget your Business Cards!
X-ALT-DESC;FMTTYPE=text/html:<span style="font-size: 14px\;">Online registration is now closed.&nbsp\; We look forward to seeing you at the event.&nbsp\; You can still register at the door.<br />\n<br />\n<strong>February Coffee &amp\; Connections</strong><br />\nWednesday\, February&nbsp\;8th\, 7:30-9am<br />\n<br />\nBelAir&nbsp\;Fashions<br />\n717 N 114th St.<br />\nOmaha\, NE &nbsp\;68154</span><br style="line-height: 20.8px\;" />\n<br style="line-height: 20.8px\;" />\n<span style="font-size: 14px\;">FREE to&nbsp\;WDCCC&nbsp\;Members<br />\n$5 for Guests<br />\n<span style="font-size: 12px\;">(Guests if it is your 1st time attending a&nbsp\;WDCCC&nbsp\;event email&nbsp\;wdccc@wdccc.org for a complimentary pass)</span></span><br style="line-height: 20.8px\;" />\n<br style="line-height: 20.8px\;" />\n<span style="line-height: 20.8px\;">Don&#39\;t forget your Business Cards!</span>
LOCATION:BelAir Fashions 717 N 114th St. Omaha\, NE 68154
UID:e.2106.430
SEQUENCE:3
DTSTAMP:20260422T171908Z
URL:https://business.westochamber.org/events/details/coffee-connections-02-08-2017-430
END:VEVENT

END:VCALENDAR
