BEGIN:VCALENDAR
VERSION:2.0
PRODID:-//ChamberMaster//Event Calendar 2.0//EN
METHOD:PUBLISH
X-PUBLISHED-TTL:P3D
REFRESH-INTERVAL:P3D
CALSCALE:GREGORIAN
BEGIN:VEVENT
DTSTART:20170308T133000Z
DTEND:20170308T150000Z
X-MICROSOFT-CDO-ALLDAYEVENT:FALSE
SUMMARY:Coffee & Connections
DESCRIPTION:Online Registration is now closed. You may still register at the event.\n\n\n\nMarch Coffee & Connections\n\nWednesday\, March 8th\, 7:30-9am\n\n\n\nOmaha Public Library Elkhorn Branch\n\n2100 Reading Plz.\n\nElkhorn\, NE 68022\n\n\n\nFREE to WDCCC Members\n\n$5 for Guests\n\n(Guests if it is your 1st time attending a WDCCC event email wdccc@wdccc.org for a complimentary pass)\n\n\n\nDon't forget your Business Cards!
X-ALT-DESC;FMTTYPE=text/html:<span style="color: rgb(51\, 51\, 51)\; font-family: sans-serif\, Arial\, Verdana\, 'Trebuchet MS'\; font-size: 14px\;">Online Registration is now closed. You may still register at the event.<br />\n<br />\n<strong>March Coffee &amp\; Connections</strong><br />\nWednesday\, March 8th\, 7:30-9am</span><br />\n<br />\n<strong>Omaha Public Library Elkhorn Branch</strong><br />\n2100 Reading Plz.<br style="color: rgb(51\, 51\, 51)\; font-family: sans-serif\, Arial\, Verdana\, 'Trebuchet MS'\; font-size: 13px\; line-height: 20.8px\;" />\n<span style="color: rgb(51\, 51\, 51)\; font-family: sans-serif\, Arial\, Verdana\, 'Trebuchet MS'\; font-size: 13px\; line-height: 20.8px\; background-color: rgb(255\, 255\, 255)\;">Elkhorn\, NE 68022</span><br style="color: rgb(51\, 51\, 51)\; font-family: sans-serif\, Arial\, Verdana\, 'Trebuchet MS'\; font-size: 13px\; line-height: 20.8px\;" />\n<br style="color: rgb(51\, 51\, 51)\; font-family: sans-serif\, Arial\, Verdana\, 'Trebuchet MS'\; font-size: 13px\; line-height: 20.8px\;" />\n<span style="color: rgb(51\, 51\, 51)\; font-family: sans-serif\, Arial\, Verdana\, 'Trebuchet MS'\; font-size: 14px\;">FREE to&nbsp\;WDCCC&nbsp\;Members<br />\n$5 for Guests<br />\n<span style="font-size: 12px\;">(Guests if it is your 1st time attending a&nbsp\;WDCCC&nbsp\;event email&nbsp\;wdccc@wdccc.org for a complimentary pass)</span></span><br style="color: rgb(51\, 51\, 51)\; font-family: sans-serif\, Arial\, Verdana\, 'Trebuchet MS'\; font-size: 13px\; line-height: 20.8px\;" />\n<br style="color: rgb(51\, 51\, 51)\; font-family: sans-serif\, Arial\, Verdana\, 'Trebuchet MS'\; font-size: 13px\; line-height: 20.8px\;" />\n<span style="color: rgb(51\, 51\, 51)\; font-family: sans-serif\, Arial\, Verdana\, 'Trebuchet MS'\; font-size: 13px\; line-height: 20.8px\; background-color: rgb(255\, 255\, 255)\;">Don&#39\;t forget your Business Cards!</span>
LOCATION:Omaha Public Library Elkhorn Branch 2100 Reading Plz. Elkhorn\, NE 68022
UID:e.2106.431
SEQUENCE:3
DTSTAMP:20260421T072408Z
URL:https://business.westochamber.org/events/details/coffee-connections-03-08-2017-431
END:VEVENT

END:VCALENDAR
