BEGIN:VCALENDAR
VERSION:2.0
PRODID:-//ChamberMaster//Event Calendar 2.0//EN
METHOD:PUBLISH
X-PUBLISHED-TTL:P3D
REFRESH-INTERVAL:P3D
CALSCALE:GREGORIAN
BEGIN:VEVENT
DTSTART:20170614T123000Z
DTEND:20170614T140000Z
X-MICROSOFT-CDO-ALLDAYEVENT:FALSE
SUMMARY:Coffee & Connections
DESCRIPTION:June Coffee & Connections\n\nWednesday\, June 14th\, 7:30-9am\n\n\n\nHyVee 180th & Pacific\n\n1000 South 178th Street\n\nOmaha\, NE \n\n\n\nFREE to WDCCC Members\n\n$5 for Guests\n\n(Guests if it is your 1st time attending a WDCCC event email wdccc@wdccc.org for a complimentary pass)\n\n\n\nDon't forget your Business Cards!
X-ALT-DESC;FMTTYPE=text/html:<span style="font-size: 14px\;"><strong>June Coffee &amp\; Connections</strong><br />\nWednesday\, June 14th\, 7:30-9am</span><br style="line-height: 20.8px\;" />\n<br style="line-height: 20.8px\;" />\n<span style="font-size:16px\;"><strong>HyVee 180th &amp\; Pacific</strong></span>\n<div aria-label="Context Menu Options" role="menu" tabindex="-1" title="Context Menu Options">\n<div role="presentation"><span style="font-size:12px\;">1000 South 178th Street<br style="color: rgb(51\, 51\, 51)\; font-family: sans-serif\, Arial\, Verdana\, 'Trebuchet MS'\; font-size: 13px\; line-height: 20.8px\;" />\n<span style="color: rgb(51\, 51\, 51)\; font-family: sans-serif\, Arial\, Verdana\, &quot\;Trebuchet MS&quot\;\; line-height: 20.8px\; background-color: rgb(255\, 255\, 255)\;">Omaha\, NE </span></span></div>\n</div>\n<br style="line-height: 20.8px\;" />\n<span style="font-size: 14px\;">FREE to&nbsp\;WDCCC&nbsp\;Members<br />\n$5 for Guests<br />\n<span style="font-size: 12px\;">(Guests if it is your 1st time attending a&nbsp\;WDCCC&nbsp\;event email&nbsp\;wdccc@wdccc.org for a complimentary pass)</span></span><br style="line-height: 20.8px\;" />\n<br style="line-height: 20.8px\;" />\n<span style="line-height: 20.8px\;">Don&#39\;t forget your Business Cards!</span>
LOCATION:HyVee 180th & Pacific 1000 South 178th Street Omaha\, NE
UID:e.2106.434
SEQUENCE:3
DTSTAMP:20260419T185022Z
URL:https://business.westochamber.org/events/details/coffee-connections-06-14-2017-434
END:VEVENT

END:VCALENDAR
