BEGIN:VCALENDAR
VERSION:2.0
PRODID:-//ChamberMaster//Event Calendar 2.0//EN
METHOD:PUBLISH
X-PUBLISHED-TTL:P3D
REFRESH-INTERVAL:P3D
CALSCALE:GREGORIAN
BEGIN:VEVENT
DTSTART:20161214T133000Z
DTEND:20161214T150000Z
X-MICROSOFT-CDO-ALLDAYEVENT:FALSE
SUMMARY:Coffee & Connections
DESCRIPTION:Online registration is closed. You are still welcome to register at the door.\n\n\n\nDecember Coffee & Connections\n\nWednesday\, December 14th\, 7:30-9am\n\n\n\nBrookestone Meadows\n\n600 Brookestone Plz\n\nElkhorn\, NE\n\n\n\nFREE to WDCCC Members\n\n$5 for Guests\n\n(Guests if it is your 1st time attending a WDCCC event email wdccc@wdccc.org for a complimentary pass)\n\n\n\nDon't forget your Business Cards!
X-ALT-DESC;FMTTYPE=text/html:<span style="font-size:14px\;"><strong>Online registration&nbsp\;is closed. You are still welcome to register at the door.<br />\n<br />\nDecember Coffee &amp\; Connections</strong><br />\nWednesday\, December 14th\, 7:30-9am<br />\n<br />\n<strong>Brookestone Meadows</strong><br />\n600 Brookestone Plz</span><br />\nElkhorn\, NE<br />\n<br />\n<span style="font-size:14px\;">FREE to WDCCC Members<br />\n$5 for Guests<br />\n<span style="font-size:12px\;">(Guests if it is your 1st time attending a WDCCC event email wdccc@wdccc.org for a complimentary pass)</span></span><br />\n<br />\nDon&#39\;t forget your Business Cards!
LOCATION:Brookestone Meadows 600 Brookestone Plz Elkhorn\, NE
UID:e.2106.428
SEQUENCE:3
DTSTAMP:20260425T222854Z
URL:https://business.westochamber.org/events/details/coffee-connections-12-14-2016-428
END:VEVENT

END:VCALENDAR
