BEGIN:VCALENDAR
VERSION:2.0
PRODID:-//ChamberMaster//Event Calendar 2.0//EN
METHOD:PUBLISH
X-PUBLISHED-TTL:P3D
REFRESH-INTERVAL:P3D
CALSCALE:GREGORIAN
BEGIN:VEVENT
DTSTART:20260428T123000Z
DTEND:20260428T140000Z
X-MICROSOFT-CDO-ALLDAYEVENT:FALSE
SUMMARY:Coffee & Connections at Forsman's Finest
DESCRIPTION:Coffee & Connections at Forsman's Finest Decks\n\n20205 Park Road (Correct Address)\n\nElkhorn\, NE 68022\n\n7:30 AM - 9 AM\n\n\n\nTuesday\, April 28th\, 2026\n\n\n\nCoffee\, breakfast treats\, prizes\, networking and much more!
X-ALT-DESC;FMTTYPE=text/html:Coffee &amp\; Connections at Forsman&#39\;s Finest Decks<br />\n20205 Park Road (Correct Address)<br />\nElkhorn\, NE 68022<br />\n7:30 AM - 9 AM<br />\n<br />\nTuesday\, April 28th\, 2026<br />\n<br />\nCoffee\, breakfast treats\, prizes\, networking and much more!
LOCATION:Forsman's Finest Decks 20205 Park Road (correct Address) Elkhorn\, NE 68022
UID:e.2106.9708
SEQUENCE:3
DTSTAMP:20260426T025358Z
URL:https://business.westochamber.org/events/details/coffee-connections-at-forsman-s-finest-9708
END:VEVENT

END:VCALENDAR
