BEGIN:VCALENDAR
VERSION:2.0
PRODID:-//ChamberMaster//Event Calendar 2.0//EN
METHOD:PUBLISH
X-PUBLISHED-TTL:P3D
REFRESH-INTERVAL:P3D
CALSCALE:GREGORIAN
BEGIN:VEVENT
DTSTART:20260224T133000Z
DTEND:20260224T150000Z
X-MICROSOFT-CDO-ALLDAYEVENT:FALSE
SUMMARY:Coffee & Connections at Junk King
DESCRIPTION:Junk King Coffee & Connections\n\n\n\nTuesday\, February 24th\, 2026\n\n7:30 AM - 9 AM
X-ALT-DESC;FMTTYPE=text/html:Junk King Coffee &amp\; Connections<br />\n<br />\nTuesday\, February 24th\, 2026<br />\n7:30 AM - 9 AM
LOCATION:24406 US Hwy 275 Waterloo\, ne 68069
UID:e.2106.9686
SEQUENCE:3
DTSTAMP:20260424T225830Z
URL:https://business.westochamber.org/events/details/coffee-connections-at-junk-king-9686
END:VEVENT

END:VCALENDAR
