BEGIN:VCALENDAR
VERSION:2.0
PRODID:-//ChamberMaster//Event Calendar 2.0//EN
METHOD:PUBLISH
X-PUBLISHED-TTL:P3D
REFRESH-INTERVAL:P3D
CALSCALE:GREGORIAN
BEGIN:VEVENT
DTSTART:20240214T133000Z
DTEND:20240214T150000Z
X-MICROSOFT-CDO-ALLDAYEVENT:FALSE
SUMMARY:Coffee & Connections - First Citizens Bank
DESCRIPTION:West O Chamber Coffee & Connections\n\nHOST: First Citizens Bank\n\n\n\nWednesday\, February 14th\, 2024\n\n7:30 AM - 9 AM\n\n\n\nStop up for Coffee\, Networking\, Prizes and Valentine's Day fun as we celebrate the holiday at First Citizen's Bank!
X-ALT-DESC;FMTTYPE=text/html:West O Chamber Coffee &amp\; Connections<br />\nHOST: First Citizens Bank<br />\n<br />\nWednesday\, February 14th\, 2024<br />\n7:30 AM - 9 AM<br />\n<br />\nStop up for Coffee\, Networking\, Prizes and Valentine&#39\;s Day fun as we celebrate the holiday at First Citizen&#39\;s Bank!
LOCATION:First Citizens Bank 15950 W Dodge Rd Omaha\, NE 68118
UID:e.2106.8896
SEQUENCE:3
DTSTAMP:20260421T162308Z
URL:https://business.westochamber.org/events/details/coffee-connections-first-citizens-bank-8896
END:VEVENT

END:VCALENDAR
