BEGIN:VCALENDAR
VERSION:2.0
PRODID:-//ChamberMaster//Event Calendar 2.0//EN
METHOD:PUBLISH
X-PUBLISHED-TTL:P3D
REFRESH-INTERVAL:P3D
CALSCALE:GREGORIAN
BEGIN:VEVENT
DTSTART:20240926T210000Z
DTEND:20240926T230000Z
X-MICROSOFT-CDO-ALLDAYEVENT:FALSE
SUMMARY:Elkhorn Athletic Association After Hours
DESCRIPTION:Elkhorn Athletic Association After Hours\n\nThursday\, September 26th\, 2024\n\n4 PM - 6 PM\n\n\n\nADDRESS:\n\nThe Boys Town Pediatrics Adaptive Sports Field at the First Interstate SportsPlex\n\n26001 N. Ida Street\n\nValley\, NE 68064\n\n\n\nStop out to the new EAA SportsPlex in Valley and check out their amazing adaptive sports field and much more! Drinks and light snacks will be provided as we network\, give away prizes and check out this amazing new facility for sports in the area!
X-ALT-DESC;FMTTYPE=text/html:Elkhorn Athletic Association After Hours<br />\nThursday\, September 26th\, 2024<br />\n4 PM - 6 PM<br />\n<br />\nADDRESS:<br />\nThe Boys Town Pediatrics Adaptive Sports Field at the First Interstate SportsPlex<br />\n26001 N. Ida Street<br />\nValley\, NE 68064<br />\n<br />\nStop out to the new EAA SportsPlex in Valley and check out their amazing adaptive sports field and much more! Drinks and light snacks will be provided as we network\, give away prizes and check out this amazing new facility for sports in the area!
LOCATION:The Boys Town Pediatrics Adaptive Sports Field at the First Interstate SportsPlex 26001 N. Ida Street Valley\, NE 68064
UID:e.2106.9585
SEQUENCE:3
DTSTAMP:20260425T145830Z
URL:https://business.westochamber.org/events/details/elkhorn-athletic-association-after-hours-9585
END:VEVENT

END:VCALENDAR
