BEGIN:VCALENDAR
VERSION:2.0
PRODID:-//ChamberMaster//Event Calendar 2.0//EN
METHOD:PUBLISH
X-PUBLISHED-TTL:P3D
REFRESH-INTERVAL:P3D
CALSCALE:GREGORIAN
BEGIN:VEVENT
DTSTART;VALUE=DATE:20170602
DTEND;VALUE=DATE:20170605
TRANSP:TRANSPARENT
X-MICROSOFT-CDO-ALLDAYEVENT:TRUE
SUMMARY:Elkhorn Days 2017
DESCRIPTION:Come out and celebrate Elkhorn's 150th Anniversary with a weekend of family fun activities. Friday night there is Family Fun Night at Common Ground. Saturday there is a fun filled day starting with the Pancake Man\, the parade and rides and games in the park. Enjoy the evening watching Bull Riding\, a country dance and a spectacular Fireworks show. Then on Sunday\, start all over again with a Family Festival and Bike Rodeo at Lord of Life Lutheran Church. Check the website for all the details. www.elkhorndays.com
X-ALT-DESC;FMTTYPE=text/html:Come out and celebrate Elkhorn&#39\;s 150th Anniversary with a weekend of family fun activities. Friday night there is Family Fun Night at Common Ground. Saturday there is a fun filled day starting with the Pancake Man\, the parade and rides and games in the park. Enjoy the evening watching Bull Riding\, a country dance and a spectacular Fireworks show. Then on Sunday\, start all over again with a Family Festival and Bike Rodeo at Lord of Life Lutheran Church. Check the website for all the details. www.elkhorndays.com
LOCATION:http://www.elkhorndays.com/
UID:e.2106.3616
SEQUENCE:3
DTSTAMP:20260419T224155Z
URL:https://business.westochamber.org/events/details/elkhorn-days-2017-3616
END:VEVENT

END:VCALENDAR
