BEGIN:VCALENDAR
VERSION:2.0
PRODID:-//ChamberMaster//Event Calendar 2.0//EN
METHOD:PUBLISH
X-PUBLISHED-TTL:P3D
REFRESH-INTERVAL:P3D
CALSCALE:GREGORIAN
BEGIN:VEVENT
DTSTART:20181211T150000Z
DTEND:20181211T170000Z
X-MICROSOFT-CDO-ALLDAYEVENT:FALSE
SUMMARY:Free Marketing Series
DESCRIPTION:7 Habits of Highly Effective Marketers\n\n \n\nJoin the discussion of the 7 things you can do to take your marketing plan to the next level in the new year. From improving social media engagement to allocating precious resources\, build your own data driven marketing strategies.
X-ALT-DESC;FMTTYPE=text/html:7 Habits of Highly Effective Marketers<br />\n&nbsp\;<br />\nJoin the discussion of the 7 things you can do to take your marketing plan to the next level in the new year. From improving social media engagement to allocating precious resources\, build your own data driven marketing strategies.
LOCATION:The Mark 204th and Dodge Elkhorn\, NE
UID:e.2106.8310
SEQUENCE:3
DTSTAMP:20260424T092603Z
URL:https://business.westochamber.org/events/details/free-marketing-series-8310
END:VEVENT

END:VCALENDAR
