BEGIN:VCALENDAR
VERSION:2.0
PRODID:-//ChamberMaster//Event Calendar 2.0//EN
METHOD:PUBLISH
X-PUBLISHED-TTL:P3D
REFRESH-INTERVAL:P3D
CALSCALE:GREGORIAN
BEGIN:VEVENT
DTSTART:20240822T210000Z
DTEND:20240822T230000Z
X-MICROSOFT-CDO-ALLDAYEVENT:FALSE
SUMMARY:Hancock/Dana Kickoff to Football Season Party
DESCRIPTION:Hancock and Dana Kickoff to Football Season Party!\n\nThursday\, August 22nd\n\n4 PM - 6 PM\n\n\n\n12829 W. Dodge Road\, Omaha\, NE\n\n\n\nDrinks and food provided along with fun\, games\, music and more! Please bring a lawn chair if you'd like to sit or a yard game if you have one!
X-ALT-DESC;FMTTYPE=text/html:Hancock and Dana Kickoff to Football Season Party!<br />\nThursday\, August 22nd<br />\n4 PM - 6 PM<br />\n<br />\n12829 W. Dodge Road\, Omaha\, NE<br />\n<br />\nDrinks and food provided along with fun\, games\, music and more! Please bring a lawn chair if you&#39\;d like to sit or a yard game if you have one!<br />\n&nbsp\;
LOCATION:Hancock/Dana PC 12829 W. Dodge Road\, Omaha\, NE
UID:e.2106.9584
SEQUENCE:3
DTSTAMP:20260425T145139Z
URL:https://business.westochamber.org/events/details/hancock-dana-kickoff-to-football-season-party-9584
END:VEVENT

END:VCALENDAR
