BEGIN:VCALENDAR
VERSION:2.0
PRODID:-//ChamberMaster//Event Calendar 2.0//EN
METHOD:PUBLISH
X-PUBLISHED-TTL:P3D
REFRESH-INTERVAL:P3D
CALSCALE:GREGORIAN
BEGIN:VEVENT
DTSTART:20180719T163000Z
DTEND:20180719T180000Z
X-MICROSOFT-CDO-ALLDAYEVENT:FALSE
SUMMARY:Lunch and Learn - Securing Your Technology
DESCRIPTION:West O Lunch and Learn Series\n\nTopic: Securing Your Technology\n\n\n\nThe news is full of incidents and hacking\, malware and security related issues. This West O Lunch and Learn will cover how to properly secure your business against the current threat landscape.\n\n\n	All attendees will be eligible for a reduced cost internal and external scan of their network.\n	This Lunch and Learn will also be an introduction to a future security and disaster planning session later in the year\n	All attendees will leave with tools\, tips and direction to address their security and disaster planning in their business\n\n\n\n\nGUEST SPEAKER:\n\nTurner Technology
X-ALT-DESC;FMTTYPE=text/html:<div style="text-align: center\;">West O Lunch and Learn Series<br />\nTopic: Securing Your Technology<br />\n<br />\nThe news is full of incidents and hacking\, malware and security related issues. This West O Lunch and Learn will cover how to properly secure your business against the current threat landscape.</div>\n\n<ul>\n	<li style="text-align: center\;">All attendees will be eligible for a reduced cost internal and external scan of their network.</li>\n	<li style="text-align: center\;">This Lunch and Learn will also be an introduction to a future security and disaster planning session later in the year</li>\n	<li style="text-align: center\;">All attendees will leave with tools\, tips and direction to address their security and disaster planning in their business</li>\n</ul>\n\n<div style="text-align: center\;"><br />\nGUEST SPEAKER:<br />\nTurner Technology</div>\n
LOCATION:The Mark 204th and Dodge Elkhorn\, NE
UID:e.2106.8262
SEQUENCE:3
DTSTAMP:20260419T204547Z
URL:https://business.westochamber.org/events/details/lunch-and-learn-securing-your-technology-8262
END:VEVENT

END:VCALENDAR
