BEGIN:VCALENDAR
VERSION:2.0
PRODID:-//ChamberMaster//Event Calendar 2.0//EN
METHOD:PUBLISH
X-PUBLISHED-TTL:P3D
REFRESH-INTERVAL:P3D
CALSCALE:GREGORIAN
BEGIN:VEVENT
DTSTART:20170822T163000Z
DTEND:20170822T180000Z
X-MICROSOFT-CDO-ALLDAYEVENT:FALSE
SUMMARY:Lunch Meeting with WDCCC
DESCRIPTION:August Lunch Meeting\n\nTuesday\, August 22nd 11:30-1pm\n\n\n\nWhere:  Indian Creek\n\n              3825 N 202nd St.\n\n              Elkhorn\, NE  \n\n\n\nCaterer: The Honey Baked Ham Company \n\n\n\nSpeakers: Our Area School Superintendents
X-ALT-DESC;FMTTYPE=text/html:<br />\n<strong><span style="color:#800000\;"><span style="font-size:16px\;">August Lunch Meeting</span></span></strong><br />\nTuesday\, August 22nd&nbsp\;11:30-1pm<br />\n<br />\n<strong>Where: &nbsp\;Indian Creek</strong><br />\n&nbsp\; &nbsp\; &nbsp\; &nbsp\; &nbsp\; &nbsp\; &nbsp\; 3825 N 202nd St.<br />\n&nbsp\; &nbsp\; &nbsp\; &nbsp\; &nbsp\; &nbsp\; &nbsp\; Elkhorn\, NE &nbsp\;<br />\n<br />\n<strong>Caterer:</strong> The Honey Baked Ham Company&nbsp\;<br />\n<br />\n<strong>Speakers:</strong> Our Area School Superintendents
LOCATION:Indian Creek 3825 N 202nd St Elkhorn\, NE
UID:e.2106.5439
SEQUENCE:3
DTSTAMP:20260421T091301Z
URL:https://business.westochamber.org/events/details/lunch-meeting-with-wdccc-5439
END:VEVENT

END:VCALENDAR
