BEGIN:VCALENDAR
VERSION:2.0
PRODID:-//ChamberMaster//Event Calendar 2.0//EN
METHOD:PUBLISH
X-PUBLISHED-TTL:P3D
REFRESH-INTERVAL:P3D
CALSCALE:GREGORIAN
BEGIN:VEVENT
DTSTART:20170325T140000Z
DTEND:20170325T180000Z
X-MICROSOFT-CDO-ALLDAYEVENT:FALSE
SUMMARY:MCC Open House
DESCRIPTION:The Open House will be at the South Omaha Campus at 27th & Q Street on March 25th from 9AM-1PM. There will be program instructors from multiple program areas including: Criminal Justice\, Fire Science\, Information Technology\, Health Information and Management Systems\, Math\, Science\, English\, Art and more! Representatives from the resources available at MCC including: The Math Center\, Writing Center\, Learning and Tutoring Center as well as the South Omaha Public Library will share what they have to offer to assist MCC students. Presentations about Financial Aid\, Enrollment\, Education Quest and a Student Panel so prospective students can know what it is really like to be an MCC College Student. Tours of South Omaha Campus will be available throughout the day as well as food provided by the Pancake Man and entertainment from the Omaha Street Percussion to ensure a fun filled day!
X-ALT-DESC;FMTTYPE=text/html:The Open House will be at the South Omaha Campus at 27th &amp\; Q Street on March 25th from 9AM-1PM. There will be program instructors from multiple program areas including: Criminal Justice\, Fire Science\, Information Technology\, Health Information and Management Systems\, Math\, Science\, English\, Art and more! Representatives from the resources available at MCC including: The Math Center\, Writing Center\, Learning and Tutoring Center as well as the South Omaha Public Library will share what they have to offer to assist MCC students. Presentations about Financial Aid\, Enrollment\, Education Quest and a Student Panel so prospective students can know what it is really like to be an MCC College Student. Tours of South Omaha Campus will be available throughout the day as well as food provided by the Pancake Man and entertainment from the Omaha Street Percussion to ensure a fun filled day!
LOCATION:South Omaha Campus 27th & Q St.
UID:e.2106.3469
SEQUENCE:3
DTSTAMP:20260422T131030Z
URL:https://business.westochamber.org/events/details/mcc-open-house-3469
END:VEVENT

END:VCALENDAR
