BEGIN:VCALENDAR
VERSION:2.0
PRODID:-//ChamberMaster//Event Calendar 2.0//EN
METHOD:PUBLISH
X-PUBLISHED-TTL:P3D
REFRESH-INTERVAL:P3D
CALSCALE:GREGORIAN
BEGIN:VEVENT
DTSTART:20171101T210000Z
DTEND:20171101T230000Z
X-MICROSOFT-CDO-ALLDAYEVENT:FALSE
SUMMARY:Ribbon Cutting at Brookestone Meadows
DESCRIPTION:Brookestone Meadows\n\n10 Year Anniversary Open House\n\nWednesday\, November 1st\, 4:00-6:00 PM\n\n600 Brookestone Meadows Plz\n\nElkhorn\, NE  68022\n\n\n\nPlease stop by to wish Brookestone Meadows a Happy Anniversary! \n\nWe are celebrating serving the community for over 10 years.
X-ALT-DESC;FMTTYPE=text/html:<br>\n<span style="font-size:20px\;"><span style="color:#800000\;"><strong>Brookestone Meadows</strong></span></span><br>\n<span style="font-size:18px\;"><span style="color:#000000\;"><strong>10 Year Anniversary Open House</strong></span></span><br>\nWednesday\, November 1st\, 4:00-6:00 PM<br>\n600 Brookestone Meadows Plz<br>\nElkhorn\, NE&nbsp\; 68022<br>\n<br>\nPlease stop by to wish Brookestone Meadows a Happy Anniversary!&nbsp\;<br>\nWe are celebrating serving the community for over 10 years.
LOCATION:Brookestone Meadows Ribbon Cutting at 4:00 pm 10 Year Anniversary 600 Brookestone Meadows Plz Elkhorn\, NE 68022
UID:e.2106.5467
SEQUENCE:3
DTSTAMP:20260424T104233Z
URL:https://business.westochamber.org/events/details/ribbon-cutting-at-brookestone-meadows-5467
END:VEVENT

END:VCALENDAR
