BEGIN:VCALENDAR
VERSION:2.0
PRODID:-//ChamberMaster//Event Calendar 2.0//EN
METHOD:PUBLISH
X-PUBLISHED-TTL:P3D
REFRESH-INTERVAL:P3D
CALSCALE:GREGORIAN
BEGIN:VEVENT
DTSTART:20260520T213000Z
DTEND:20260520T233000Z
X-MICROSOFT-CDO-ALLDAYEVENT:FALSE
SUMMARY:Ribbon Cutting at Gallant Autism
DESCRIPTION:Ribbon Cutting at Gallant Autism\n\n20120 Pierce Street\n\nElkhorn\, NE 68022\n\n\n\nWednesday\, May 20th\n\n4:30 PM - 6:30 PM
X-ALT-DESC;FMTTYPE=text/html:Ribbon Cutting at Gallant Autism<br />\n20120 Pierce Street<br />\nElkhorn\, NE 68022<br />\n<br />\nWednesday\, May 20th<br />\n4:30 PM - 6:30 PM
LOCATION:Gallant Autism 20120 Pierce Street Elkhorn\, NE 68022
UID:e.2106.9717
SEQUENCE:3
DTSTAMP:20260420T233529Z
URL:https://business.westochamber.org/events/details/ribbon-cutting-at-gallant-autism-9717
END:VEVENT

END:VCALENDAR
