BEGIN:VCALENDAR
VERSION:2.0
PRODID:-//ChamberMaster//Event Calendar 2.0//EN
METHOD:PUBLISH
X-PUBLISHED-TTL:P3D
REFRESH-INTERVAL:P3D
CALSCALE:GREGORIAN
BEGIN:VEVENT
DTSTART:20170621T160000Z
DTEND:20170621T180000Z
X-MICROSOFT-CDO-ALLDAYEVENT:FALSE
SUMMARY:Ribbon Cutting/Open House
DESCRIPTION:Ribbon Cutting/Open House\n\nMaple Ridge Resort Lifestyle Communities\n\nWednesday\, June 21st\, 11:00am-1:00pm\n\nRibbon Cutting at 11am\n\nLunch and Tours following Ribbon Cutting
X-ALT-DESC;FMTTYPE=text/html:<span style="font-size:16px\;"><strong>Ribbon Cutting/Open House</strong></span><br />\n<strong><span style="font-size:16px\;">Maple Ridge Resort Lifestyle Communities</span></strong><br />\nWednesday\, June 21st\, 11:00am-1:00pm<br />\nRibbon Cutting at 11am<br />\nLunch and Tours following Ribbon Cutting<br />\n&nbsp\;
LOCATION:Maple Ridge Resort Lifestyle Communities 3525 N 167th Circle Omaha\, NE
UID:e.2106.3478
SEQUENCE:3
DTSTAMP:20260420T012506Z
URL:https://business.westochamber.org/events/details/ribbon-cutting-open-house-3478
END:VEVENT

END:VCALENDAR
