BEGIN:VCALENDAR
VERSION:2.0
PRODID:-//ChamberMaster//Event Calendar 2.0//EN
METHOD:PUBLISH
X-PUBLISHED-TTL:P3D
REFRESH-INTERVAL:P3D
CALSCALE:GREGORIAN
BEGIN:VEVENT
DTSTART;VALUE=DATE:20170320
DTEND;VALUE=DATE:20170426
TRANSP:TRANSPARENT
X-MICROSOFT-CDO-ALLDAYEVENT:TRUE
SUMMARY:Scholarship Lunch Sponsor
DESCRIPTION:Scholarship Luncheon Presentation: Tuesday April 25th\, 2017. Join us as we present the winners of our Scholarships to local high school seniors. Your sponsorship helps pay for the students and parents to enjoy lunch. Includes acknowledgement in presentation.\n	\n		$250 Sponsor\n		$100 Sponsor\n		$50 Sponsor
X-ALT-DESC;FMTTYPE=text/html:<ul>\n	<li><strong>Scholarship Luncheon Presentation</strong>: Tuesday April 25th\, 2017. Join us as we present the winners of our Scholarships to local high school seniors. Your sponsorship helps pay for the students and parents to enjoy lunch. Includes acknowledgement in presentation.\n	<ul>\n		<li><strong>$250 Sponsor</strong></li>\n		<li><strong>$100 Sponsor</strong></li>\n		<li><strong>$50 Sponsor</strong></li>\n	</ul>\n	</li>\n</ul>\n
LOCATION:
UID:e.2106.3474
SEQUENCE:3
DTSTAMP:20260420T052759Z
URL:https://business.westochamber.org/events/details/scholarship-lunch-sponsor-3474
END:VEVENT

END:VCALENDAR
