BEGIN:VCALENDAR
VERSION:2.0
PRODID:-//ChamberMaster//Event Calendar 2.0//EN
METHOD:PUBLISH
X-PUBLISHED-TTL:P3D
REFRESH-INTERVAL:P3D
CALSCALE:GREGORIAN
BEGIN:VEVENT
DTSTART:20161201T220000Z
DTEND:20161202T010000Z
X-MICROSOFT-CDO-ALLDAYEVENT:FALSE
SUMMARY:WDCCC Holiday Party
DESCRIPTION:Online Registration Has Closed but you can still register at the event. Hope to see you tonight!\n\n\n\nWDCCC 2016 Holiday Party\n\nThursday\, December 1st 4-7pm\n\nResidence Inn Omaha West\n\n18202 Cuming St. (Just north of 180th & Dodge)\n\nElkhorn\, NE\n\n\n\nMark your calendars to attend our annual Holiday Party!\n\n\n\nHoliday Party Member Attendance - Free\n\n    (Significant Others Included)\n\nHoliday Party Non-Member Attendance - $5.00\n\n\n\nSponsorships Available:\n\n\n\nHoliday Party Sponsor: $500\n\nHoliday Party Sponsor: $250\n\nHoliday Party Sponsor:  $100\n\nHoliday Party Sponsor:  $50\n\n\n\nHoliday Party Hor d'oeuvres Sponsor: Free\n\n    Bring your own hor d'oeuvres and showcase what your company.\n\n\n\nHoliday Party Drink Sponsor: $500\n\nHoliday Party Drink Sponsor: $350\n\n\n\nHoliday Party Door Prize Sponsor: Free\n\n    Provide a gift to give away throughout the evening.
X-ALT-DESC;FMTTYPE=text/html:<span style="font-size:15px"><strong>Online Registration Has Closed but you can still register at the event. Hope to see you tonight!<br />\n<br />\nWDCCC 2016 Holiday Party</strong><br />\nThursday\, December 1st 4-7pm<br />\nResidence Inn Omaha West<br />\n18202 Cuming St. (Just north of 180th &amp\; Dodge)<br />\nElkhorn\, NE<br />\n<br />\nMark your calendars to attend our annual Holiday Party!</span><br />\n<br />\nHoliday Party Member Attendance - Free<br />\n&nbsp\;&nbsp\;&nbsp\; (Significant Others Included)<br />\nHoliday Party Non-Member Attendance - $5.00<br />\n<br />\n<span style="font-size:15px"><u><strong>Sponsorships Available:</strong></u><br />\n<br />\nHoliday Party Sponsor: $500<br />\nHoliday Party Sponsor: $250<br />\nHoliday Party Sponsor:&nbsp\; $100<br />\nHoliday Party Sponsor:&nbsp\; $50<br />\n<br />\nHoliday Party Hor d&#39\;oeuvres Sponsor: Free</span><br />\n&nbsp\;&nbsp\;&nbsp\;&nbsp\;<span style="font-size:15px">Bring your own hor d&#39\;oeuvres and showcase what your company.<br />\n<br />\nHoliday Party Drink Sponsor: $500<br />\nHoliday Party Drink Sponsor: $350<br />\n<br />\nHoliday Party Door Prize Sponsor: Free</span><br />\n&nbsp\;&nbsp\;&nbsp\;&nbsp\;<span style="font-size:15px">Provide a gift to give away throughout the evening.</span><br />\n&nbsp\;
LOCATION:Residence Inn Omaha West 18202 Cuming St. (Just north of 180th & Dodge) Elkhorn\, NE
UID:e.2106.3377
SEQUENCE:3
DTSTAMP:20260425T222813Z
URL:https://business.westochamber.org/events/details/wdccc-holiday-party-3377
END:VEVENT

END:VCALENDAR
