BEGIN:VCALENDAR
VERSION:2.0
PRODID:-//ChamberMaster//Event Calendar 2.0//EN
METHOD:PUBLISH
X-PUBLISHED-TTL:P3D
REFRESH-INTERVAL:P3D
CALSCALE:GREGORIAN
BEGIN:VEVENT
DTSTART;VALUE=DATE:20260319
DTEND;VALUE=DATE:20260320
TRANSP:TRANSPARENT
X-MICROSOFT-CDO-ALLDAYEVENT:TRUE
SUMMARY:West O Free Coaching #6
DESCRIPTION:West O Free Coaching #6\n\nHow Do You Show Up with Janelle Roker\n\n\n\nThursday\, Mar 19th at OCI\n\n8:30 AM - 9:30 AM\n\n\n\nIt's March Madness Thursday and we are going to start the tournament out by figuring out How to Show Up and be successful in business! We also hope our teams will show up in the tournament\, but we hope you start your day with us at our free coaching series at OCI before you take in the games! See you there!
X-ALT-DESC;FMTTYPE=text/html:West O Free Coaching #6<br />\nHow Do You Show Up with Janelle Roker<br />\n<br />\nThursday\, Mar 19th at OCI<br />\n8:30 AM - 9:30 AM<br />\n<br />\nIt&#39\;s March Madness Thursday and we are going to start the tournament out by figuring out How to Show Up and be successful in business! We also hope our teams will show up in the tournament\, but we hope you start your day with us at our free coaching series at OCI before you take in the games! See you there!&nbsp\;&nbsp\;&nbsp\;&nbsp\;&nbsp\;&nbsp\;&nbsp\;&nbsp\;&nbsp\;&nbsp\;&nbsp\;&nbsp\;
LOCATION:OCI - 3rd Floor 4221 N. 203rd Street Elkhorn\, NE 68022
UID:e.2106.9701
SEQUENCE:3
DTSTAMP:20260425T155113Z
URL:https://business.westochamber.org/events/details/west-o-free-coaching-6-9701
END:VEVENT

END:VCALENDAR
