BEGIN:VCALENDAR
VERSION:2.0
PRODID:-//ChamberMaster//Event Calendar 2.0//EN
METHOD:PUBLISH
X-PUBLISHED-TTL:P3D
REFRESH-INTERVAL:P3D
CALSCALE:GREGORIAN
BEGIN:VEVENT
DTSTART:20260227T143000Z
DTEND:20260227T153000Z
X-MICROSOFT-CDO-ALLDAYEVENT:FALSE
SUMMARY:West O Free Coaching Series #4
DESCRIPTION:West O Chamber Free Coaching Series #4\n\n\n\nHow Do You Operate with Janelle Roker\n\n\n\nHow you make decisions during change matters. Are you simply reacting from fear or fulfilling your dreams? By the end you'll know how to make better choices.
X-ALT-DESC;FMTTYPE=text/html:<strong>West O Chamber Free Coaching Series #4</strong><br />\n<br />\n<strong>How Do You Operate with Janelle Roker</strong><br />\n<br />\n<span style="font-family:aptos\,sans-serif\;"><span style="font-size:12.0pt\;">How you make decisions during change matters. Are you simply reacting from fear or fulfilling your dreams? By the end you&rsquo\;ll know how to make better choices.&nbsp\; &nbsp\;</span></span>
LOCATION:OCI - 3rd Floor Conference Room 4221 N 203rd St Elkhorn\, NE 68022
UID:e.2106.9682
SEQUENCE:3
DTSTAMP:20260424T175900Z
URL:https://business.westochamber.org/events/details/west-o-free-coaching-series-4-9682
END:VEVENT

END:VCALENDAR
