BEGIN:VCALENDAR
VERSION:2.0
PRODID:-//ChamberMaster//Event Calendar 2.0//EN
METHOD:PUBLISH
X-PUBLISHED-TTL:P3D
REFRESH-INTERVAL:P3D
CALSCALE:GREGORIAN
BEGIN:VEVENT
DTSTART:20260407T163000Z
DTEND:20260407T173000Z
X-MICROSOFT-CDO-ALLDAYEVENT:FALSE
SUMMARY:West O Free Coaching Series #7
DESCRIPTION:West O Chamber Free Coaching Series #7\n\nThe Art of Prospecting with Chris Corey\n\n\n\nDoes cold calling still work? Do email blasts work? Is it better to cold call in-person or over the phone?
X-ALT-DESC;FMTTYPE=text/html:<strong><span style="font-size:16px\;">West O Chamber Free Coaching Series #7</span><br />\nThe Art of Prospecting with Chris Corey</strong><br />\n<br />\nDoes cold calling still work? Do email blasts work? Is it better to cold call in-person or over the phone?<br />\n&nbsp\;
LOCATION:DJ's Dugout 192nd and Maple 11:30 AM - 12:30 PM
UID:e.2106.9702
SEQUENCE:3
DTSTAMP:20260419T131642Z
URL:https://business.westochamber.org/events/details/west-o-free-coaching-series-7-9702
END:VEVENT

END:VCALENDAR
