BEGIN:VCALENDAR
VERSION:2.0
PRODID:-//ChamberMaster//Event Calendar 2.0//EN
METHOD:PUBLISH
X-PUBLISHED-TTL:P3D
REFRESH-INTERVAL:P3D
CALSCALE:GREGORIAN
BEGIN:VEVENT
DTSTART:20170906T123000Z
DTEND:20170906T140000Z
X-MICROSOFT-CDO-ALLDAYEVENT:FALSE
SUMMARY:Workforce Wednesdays
DESCRIPTION:At Heartland Workforce Solutions\, partnering with the Nebraska Department of Labor\, we are inviting all employers to experience our twist on networking!  \n\n\n\nWhat is our unique twist? Monopoly. Your network is your networth - monopolize your network at our real-life Monopoly game! You've never been to a networking event like this before!\n\n\n\nNetwork with other employers and partners at Heartland Workforce Solutions at a unique event aimed at discussing and solving workforce issues that we all are struggling with - whether it be hiring\, retention\, or workforce development. You will make connections here that you won't find anywhere else - and these connections will lead to solutions!\n\n\n\n**Light breakfast will be sponsored by Kum & Go!**
X-ALT-DESC;FMTTYPE=text/html:At Heartland Workforce Solutions\, partnering with the Nebraska Department of Labor\, we are inviting all employers to experience our&nbsp\;<em>twist</em>&nbsp\;on networking! &nbsp\;<br />\n<br />\nWhat is our&nbsp\;<em>unique twist?</em>&nbsp\;Monopoly. Your network is your networth - monopolize your network at our real-life Monopoly game! You&#39\;ve never been to a networking event like this before!<br />\n<br />\nNetwork with other employers and partners at Heartland Workforce Solutions at a&nbsp\;<em>unique</em>&nbsp\;event aimed at discussing and solving workforce issues that we all are struggling with - whether it be hiring\, retention\, or workforce development. You will make connections here that you won&#39\;t find anywhere else - and these connections will lead to solutions!<br />\n<br />\n**Light breakfast will be sponsored by Kum &amp\; Go!**<br />\n<br />\n&nbsp\;
LOCATION:Heartland Workforce Solutions 5752 Ames Ave. Omaha\, NE 68104
UID:e.2106.5444
SEQUENCE:3
DTSTAMP:20260419T120204Z
URL:https://business.westochamber.org/events/details/workforce-wednesdays-09-06-2017-5444
END:VEVENT

END:VCALENDAR
